BEGIN:VCALENDAR
VERSION:2.0
PRODID:-//jEvents 2.0 for Joomla//EN
CALSCALE:GREGORIAN
METHOD:PUBLISH
BEGIN:VTIMEZONE
TZID:Europe/Berlin
BEGIN:STANDARD
DTSTART:20181028T020000
RDATE:20190331T030000
TZOFFSETFROM:+0200
TZOFFSETTO:+0100
TZNAME:Europe/Berlin CET
END:STANDARD
BEGIN:STANDARD
DTSTART:20191027T020000
RDATE:20200329T030000
TZOFFSETFROM:+0200
TZOFFSETTO:+0100
TZNAME:Europe/Berlin CET
END:STANDARD
BEGIN:STANDARD
DTSTART:20201025T020000
RDATE:20210328T030000
TZOFFSETFROM:+0200
TZOFFSETTO:+0100
TZNAME:Europe/Berlin CET
END:STANDARD
BEGIN:STANDARD
DTSTART:20211031T020000
RDATE:20220327T030000
TZOFFSETFROM:+0200
TZOFFSETTO:+0100
TZNAME:Europe/Berlin CET
END:STANDARD
BEGIN:STANDARD
DTSTART:20221030T020000
RDATE:20230326T030000
TZOFFSETFROM:+0200
TZOFFSETTO:+0100
TZNAME:Europe/Berlin CET
END:STANDARD
BEGIN:STANDARD
DTSTART:20231029T020000
RDATE:20240331T030000
TZOFFSETFROM:+0200
TZOFFSETTO:+0100
TZNAME:Europe/Berlin CET
END:STANDARD
BEGIN:STANDARD
DTSTART:20241027T020000
RDATE:20250330T030000
TZOFFSETFROM:+0200
TZOFFSETTO:+0100
TZNAME:Europe/Berlin CET
END:STANDARD
BEGIN:STANDARD
DTSTART:20251026T020000
RDATE:20260329T030000
TZOFFSETFROM:+0200
TZOFFSETTO:+0100
TZNAME:Europe/Berlin CET
END:STANDARD
BEGIN:STANDARD
DTSTART:20261025T020000
RDATE:20270328T030000
TZOFFSETFROM:+0200
TZOFFSETTO:+0100
TZNAME:Europe/Berlin CET
END:STANDARD
BEGIN:STANDARD
DTSTART:20271031T020000
RDATE:20280326T030000
TZOFFSETFROM:+0200
TZOFFSETTO:+0100
TZNAME:Europe/Berlin CET
END:STANDARD
BEGIN:STANDARD
DTSTART:20281029T020000
RDATE:20290325T030000
TZOFFSETFROM:+0200
TZOFFSETTO:+0100
TZNAME:Europe/Berlin CET
END:STANDARD
BEGIN:STANDARD
DTSTART:20291028T020000
RDATE:20300331T030000
TZOFFSETFROM:+0200
TZOFFSETTO:+0100
TZNAME:Europe/Berlin CET
END:STANDARD
BEGIN:STANDARD
DTSTART:20301027T020000
RDATE:20310330T030000
TZOFFSETFROM:+0200
TZOFFSETTO:+0100
TZNAME:Europe/Berlin CET
END:STANDARD
BEGIN:DAYLIGHT
DTSTART:20180726T000000
RDATE:20181028T020000
TZOFFSETFROM:+0100
TZOFFSETTO:+0200
TZNAME:Europe/Berlin CEST
END:DAYLIGHT
BEGIN:DAYLIGHT
DTSTART:20190331T030000
RDATE:20191027T020000
TZOFFSETFROM:+0100
TZOFFSETTO:+0200
TZNAME:Europe/Berlin CEST
END:DAYLIGHT
BEGIN:DAYLIGHT
DTSTART:20200329T030000
RDATE:20201025T020000
TZOFFSETFROM:+0100
TZOFFSETTO:+0200
TZNAME:Europe/Berlin CEST
END:DAYLIGHT
BEGIN:DAYLIGHT
DTSTART:20210328T030000
RDATE:20211031T020000
TZOFFSETFROM:+0100
TZOFFSETTO:+0200
TZNAME:Europe/Berlin CEST
END:DAYLIGHT
BEGIN:DAYLIGHT
DTSTART:20220327T030000
RDATE:20221030T020000
TZOFFSETFROM:+0100
TZOFFSETTO:+0200
TZNAME:Europe/Berlin CEST
END:DAYLIGHT
BEGIN:DAYLIGHT
DTSTART:20230326T030000
RDATE:20231029T020000
TZOFFSETFROM:+0100
TZOFFSETTO:+0200
TZNAME:Europe/Berlin CEST
END:DAYLIGHT
BEGIN:DAYLIGHT
DTSTART:20240331T030000
RDATE:20241027T020000
TZOFFSETFROM:+0100
TZOFFSETTO:+0200
TZNAME:Europe/Berlin CEST
END:DAYLIGHT
BEGIN:DAYLIGHT
DTSTART:20250330T030000
RDATE:20251026T020000
TZOFFSETFROM:+0100
TZOFFSETTO:+0200
TZNAME:Europe/Berlin CEST
END:DAYLIGHT
BEGIN:DAYLIGHT
DTSTART:20260329T030000
RDATE:20261025T020000
TZOFFSETFROM:+0100
TZOFFSETTO:+0200
TZNAME:Europe/Berlin CEST
END:DAYLIGHT
BEGIN:DAYLIGHT
DTSTART:20270328T030000
RDATE:20271031T020000
TZOFFSETFROM:+0100
TZOFFSETTO:+0200
TZNAME:Europe/Berlin CEST
END:DAYLIGHT
BEGIN:DAYLIGHT
DTSTART:20280326T030000
RDATE:20281029T020000
TZOFFSETFROM:+0100
TZOFFSETTO:+0200
TZNAME:Europe/Berlin CEST
END:DAYLIGHT
BEGIN:DAYLIGHT
DTSTART:20290325T030000
RDATE:20291028T020000
TZOFFSETFROM:+0100
TZOFFSETTO:+0200
TZNAME:Europe/Berlin CEST
END:DAYLIGHT
BEGIN:DAYLIGHT
DTSTART:20300331T030000
RDATE:20301027T020000
TZOFFSETFROM:+0100
TZOFFSETTO:+0200
TZNAME:Europe/Berlin CEST
END:DAYLIGHT
END:VTIMEZONE
BEGIN:VEVENT
UID:567eef38eb4e51402bef3eb16e6dd326
CATEGORIES:TVE Tennis Kalender
CREATED:20190722T130947
SUMMARY:Vereinsmeisterschaften 2019
DESCRIPTION:\n - Zur Terminierung eurer Partien nutzt bitte die beiliegende Platzbelegu
 ngsliste und tragt euch dort mit Uhrzeit ein, dann sollte es nicht zu Überb
 elegungen kommen.Bitte nehmt frühzeitig Kontakt zu euren Gegnern auf, damit
  Terminschwierigkeiten wegen Urlauben, Dienstreisen oder Verletzungen erst 
 gar nicht aufkommen. DANKE!!!\n\n - Sollten genügend Plätze frei sein, könn
 en diese natürlich auch gerne für die Matches genutzt werden. Platz 1 und 2
  sind nicht verbindlich!\n - Die Zählweise erfolgt nach dem üblichen Prozed
 ere der Medenspiele (Satz bis 6, bei 6:6 Tiebreak, der 3.Satz wird als Matc
 h-Tiebreak gespielt)\n - Im Anschluss an eure Spiele tragt das Ergebnis bit
 te in die Spiel- und Gruppenpläne ein. Wir werden versuchen, regelmäßig die
  Ergebnisse auch auf die Homepage zu übertragen.\n - Einige Konkurrenzen we
 rden auch in diesem Jahr in Gruppenspielen, mit einem Finale der Gruppensie
 ger bzw. Halbfinals, ausgetragen. Dies steht aber auch nochmals auf den jew
 eiligen Konkurrenzblättern.\n - Die Konkurrenzen, welche im KO-System gespi
 elt werden, haben Terminvorgaben bis wann die einzelnen Runden zu spielen s
 ind. Sollte es Probleme geben, meldet euch bitte bei Malte oder Manfred.\n 
 - Bei KO-Bäumen ab 8 Teilnehmern wird eine Nebenrunde der Verlierer der ers
 ten Runden gespielt.Die Finals sollen dann gemeinsam am Samstag, den 7.Sept
 ember gespielt werden. Im Anschluss wird es in gewohnter Weise die Siegereh
 rung und ein gemütliches Beisammensein geben. Sollte uns das Wetter an dies
 em Tag einen Strich durch die Rechnung machen, wird der Samstag,  14. Septe
 mber als Ersatztermin genutzt.\nSolltet ihr noch Fragen oder irgendwelche P
 robleme mit euren Spielen haben, wendet euch bitte direkt an die Verantwort
 lichen!\n
X-ALT-DESC;FMTTYPE=text/html:<ul><li>Zur Terminierung eurer Partien nutzt bitte die beiliegende Platzbel
 egungsliste und tragt euch dort mit Uhrzeit ein, dann sollte es nicht zu Üb
 erbelegungen kommen.</li></ul><p><strong><em>Bitte nehmt frühzeitig Kontakt
  zu euren Gegnern auf, damit Terminschwierigkeiten wegen Urlauben, Dienstre
 isen oder Verletzungen erst gar nicht aufkommen. DANKE!!!</em></strong></p>
 <ul><li>Sollten genügend Plätze frei sein, können diese natürlich auch gern
 e für die Matches genutzt werden. Platz 1 und 2 sind nicht verbindlich!</li
 ><li>Die Zählweise erfolgt nach dem üblichen Prozedere der Medenspiele (Sat
 z bis 6, bei 6:6 Tiebreak, der 3.Satz wird als Match-Tiebreak gespielt)</li
 ><li>Im Anschluss an eure Spiele tragt das Ergebnis bitte in die Spiel- und
  Gruppenpläne ein. Wir werden versuchen, regelmäßig die Ergebnisse auch auf
  die Homepage zu übertragen.</li><li>Einige Konkurrenzen werden auch in die
 sem Jahr in Gruppenspielen, mit einem Finale der Gruppensieger bzw. Halbfin
 als, ausgetragen. Dies steht aber auch nochmals auf den jeweiligen Konkurre
 nzblättern.</li><li>Die Konkurrenzen, welche im KO-System gespielt werden, 
 haben Terminvorgaben bis wann die einzelnen Runden zu spielen sind. Sollte 
 es Probleme geben, meldet euch bitte bei Malte oder Manfred.</li><li>Bei KO
 -Bäumen ab 8 Teilnehmern wird eine Nebenrunde der Verlierer der ersten Rund
 en gespielt.</li></ul><p><strong><em>Die Finals</em></strong> sollen dann g
 emeinsam am <strong><em>Samstag, den 7.September</em></strong> gespielt wer
 den. Im Anschluss wird es in gewohnter Weise die Siegerehrung und ein gemüt
 liches Beisammensein geben. Sollte uns das Wetter an diesem Tag einen Stric
 h durch die Rechnung machen, wird der <strong><em>Samstag,  14. September a
 ls Ersatztermin</em></strong> genutzt.</p><p>Solltet ihr noch Fragen oder i
 rgendwelche Probleme mit euren Spielen haben, wendet euch bitte direkt an d
 ie Verantwortlichen!</p>
DTSTAMP:20260422T063358
DTSTART;TZID=Europe/Berlin;VALUE=DATE:20190727
DTEND;TZID=Europe/Berlin;VALUE=DATE:20190921
SEQUENCE:0
TRANSP:OPAQUE
END:VEVENT
END:VCALENDAR