BEGIN:VCALENDAR
VERSION:2.0
PRODID:-//jEvents 2.0 for Joomla//EN
CALSCALE:GREGORIAN
METHOD:PUBLISH
BEGIN:VTIMEZONE
TZID:Europe/Berlin
BEGIN:STANDARD
DTSTART:20211031T020000
RDATE:20220327T030000
TZOFFSETFROM:+0200
TZOFFSETTO:+0100
TZNAME:Europe/Berlin CET
END:STANDARD
BEGIN:STANDARD
DTSTART:20221030T020000
RDATE:20230326T030000
TZOFFSETFROM:+0200
TZOFFSETTO:+0100
TZNAME:Europe/Berlin CET
END:STANDARD
BEGIN:STANDARD
DTSTART:20231029T020000
RDATE:20240331T030000
TZOFFSETFROM:+0200
TZOFFSETTO:+0100
TZNAME:Europe/Berlin CET
END:STANDARD
BEGIN:STANDARD
DTSTART:20241027T020000
RDATE:20250330T030000
TZOFFSETFROM:+0200
TZOFFSETTO:+0100
TZNAME:Europe/Berlin CET
END:STANDARD
BEGIN:STANDARD
DTSTART:20251026T020000
RDATE:20260329T030000
TZOFFSETFROM:+0200
TZOFFSETTO:+0100
TZNAME:Europe/Berlin CET
END:STANDARD
BEGIN:STANDARD
DTSTART:20261025T020000
RDATE:20270328T030000
TZOFFSETFROM:+0200
TZOFFSETTO:+0100
TZNAME:Europe/Berlin CET
END:STANDARD
BEGIN:STANDARD
DTSTART:20271031T020000
RDATE:20280326T030000
TZOFFSETFROM:+0200
TZOFFSETTO:+0100
TZNAME:Europe/Berlin CET
END:STANDARD
BEGIN:STANDARD
DTSTART:20281029T020000
RDATE:20290325T030000
TZOFFSETFROM:+0200
TZOFFSETTO:+0100
TZNAME:Europe/Berlin CET
END:STANDARD
BEGIN:STANDARD
DTSTART:20291028T020000
RDATE:20300331T030000
TZOFFSETFROM:+0200
TZOFFSETTO:+0100
TZNAME:Europe/Berlin CET
END:STANDARD
BEGIN:STANDARD
DTSTART:20301027T020000
RDATE:20310330T030000
TZOFFSETFROM:+0200
TZOFFSETTO:+0100
TZNAME:Europe/Berlin CET
END:STANDARD
BEGIN:DAYLIGHT
DTSTART:20210423T110000
RDATE:20211031T020000
TZOFFSETFROM:+0100
TZOFFSETTO:+0200
TZNAME:Europe/Berlin CEST
END:DAYLIGHT
BEGIN:DAYLIGHT
DTSTART:20220327T030000
RDATE:20221030T020000
TZOFFSETFROM:+0100
TZOFFSETTO:+0200
TZNAME:Europe/Berlin CEST
END:DAYLIGHT
BEGIN:DAYLIGHT
DTSTART:20230326T030000
RDATE:20231029T020000
TZOFFSETFROM:+0100
TZOFFSETTO:+0200
TZNAME:Europe/Berlin CEST
END:DAYLIGHT
BEGIN:DAYLIGHT
DTSTART:20240331T030000
RDATE:20241027T020000
TZOFFSETFROM:+0100
TZOFFSETTO:+0200
TZNAME:Europe/Berlin CEST
END:DAYLIGHT
BEGIN:DAYLIGHT
DTSTART:20250330T030000
RDATE:20251026T020000
TZOFFSETFROM:+0100
TZOFFSETTO:+0200
TZNAME:Europe/Berlin CEST
END:DAYLIGHT
BEGIN:DAYLIGHT
DTSTART:20260329T030000
RDATE:20261025T020000
TZOFFSETFROM:+0100
TZOFFSETTO:+0200
TZNAME:Europe/Berlin CEST
END:DAYLIGHT
BEGIN:DAYLIGHT
DTSTART:20270328T030000
RDATE:20271031T020000
TZOFFSETFROM:+0100
TZOFFSETTO:+0200
TZNAME:Europe/Berlin CEST
END:DAYLIGHT
BEGIN:DAYLIGHT
DTSTART:20280326T030000
RDATE:20281029T020000
TZOFFSETFROM:+0100
TZOFFSETTO:+0200
TZNAME:Europe/Berlin CEST
END:DAYLIGHT
BEGIN:DAYLIGHT
DTSTART:20290325T030000
RDATE:20291028T020000
TZOFFSETFROM:+0100
TZOFFSETTO:+0200
TZNAME:Europe/Berlin CEST
END:DAYLIGHT
BEGIN:DAYLIGHT
DTSTART:20300331T030000
RDATE:20301027T020000
TZOFFSETFROM:+0100
TZOFFSETTO:+0200
TZNAME:Europe/Berlin CEST
END:DAYLIGHT
END:VTIMEZONE
BEGIN:VEVENT
UID:78c795cd502189522670f444a57b0d60
CATEGORIES:TVE Tennis Kalender
CREATED:20220419T161539
SUMMARY:TVE JHV-Gesamtverein
LOCATION:Clubhaus Jahnwiese\, Fulerumer Str. 11\, 45149 Essen
DESCRIPTION:T a g e s o r d n u n g \n\n 1. Begrüßung\n 2. Jubilar – Ehrungen\n 3. Verl
 esen der Niederschrift über die letzte Jahreshauptversammlung\n 4. Bericht 
 des Vorsitzenden\n 5. Berichte des erweiterten Vorstandes\n 6. Berichte der
  Abteilungswarte*in\n\n 7. Bericht des Geschäftsführer*in  - Kassenbericht 
  -\n    a. Einnahmen- und Ausgabenrechnung\n    b. Übersicht über das Verei
 nsvermögen\n\n 8. Bericht der Kassenprüfung\n 9. Feststellung der Beschluss
 fähigkeit\n10. Entlastung des geschäftsführenden Vorstandes für die Tätigke
 it in den Jahren 2019 bis 2021\n\n11. Vorstandsneuwahlen bzw. – bestätigung
 \n    -Vorsitzender*in ( 1 Jahr )\n    -stellvert. Vorsitzender*in ( 2 Jahr
 e )\n    -Geschäftsführer*in ( 2 Jahre )\n    -Schriftführer*in\n    -Beisi
 tzer*in\n    -Kassenprüfer*in\n    -E + S Ausschuss\n                     \
 n12. Anträge\n    Anträge, die in der Jahreshauptversammlung behandelt werd
 en sollen, sind bis zum 10.03.2022 an:\n    Wolfgang Küppers, An der Windmü
 hle 31, 45289 Essen, einzureichen.\n\n13. Verschiedenes\n\n14. gemeinsames 
 Suppe – Essen\n
X-ALT-DESC;FMTTYPE=text/html:<p>T a g e s o r d n u n g <br /><br /> 1. Begrüßung<br /> 2. Jubilar – Ehr
 ungen<br /> 3. Verlesen der Niederschrift über die letzte Jahreshauptversam
 mlung<br /> 4. Bericht des Vorsitzenden<br /> 5. Berichte des erweiterten V
 orstandes<br /> 6. Berichte der Abteilungswarte*in<br /><br /> 7. Bericht d
 es Geschäftsführer*in  - Kassenbericht  -<br />    a. Einnahmen- und Ausgab
 enrechnung<br />    b. Übersicht über das Vereinsvermögen<br /><br /> 8. Be
 richt der Kassenprüfung<br /> 9. Feststellung der Beschlussfähigkeit<br />1
 0. Entlastung des geschäftsführenden Vorstandes für die Tätigkeit in den Ja
 hren 2019 bis 2021<br /><br />11. Vorstandsneuwahlen bzw. – bestätigung<br 
 />    -Vorsitzender*in ( 1 Jahr )<br />    -stellvert. Vorsitzender*in ( 2 
 Jahre )<br />    -Geschäftsführer*in ( 2 Jahre )<br />    -Schriftführer*in
 <br />    -Beisitzer*in<br />    -Kassenprüfer*in<br />    -E + S Ausschuss
 <br />                     <br />12. Anträge<br />    Anträge, die in der J
 ahreshauptversammlung behandelt werden sollen, sind bis zum 10.03.2022 an:<
 br />    Wolfgang Küppers, An der Windmühle 31, 45289 Essen, einzureichen.<
 br /><br />13. Verschiedenes<br /><br />14. gemeinsames Suppe – Essen</p>
DTSTAMP:20260420T012313
DTSTART;TZID=Europe/Berlin:20220424T110000
SEQUENCE:0
TRANSP:OPAQUE
END:VEVENT
END:VCALENDAR