BEGIN:VCALENDAR
VERSION:2.0
PRODID:-//jEvents 2.0 for Joomla//EN
CALSCALE:GREGORIAN
METHOD:PUBLISH
BEGIN:VTIMEZONE
TZID:Europe/Berlin
BEGIN:STANDARD
DTSTART:20210316T190000
RDATE:20210328T030000
TZOFFSETFROM:+0200
TZOFFSETTO:+0100
TZNAME:Europe/Berlin CET
END:STANDARD
BEGIN:STANDARD
DTSTART:20211031T020000
RDATE:20220327T030000
TZOFFSETFROM:+0200
TZOFFSETTO:+0100
TZNAME:Europe/Berlin CET
END:STANDARD
BEGIN:STANDARD
DTSTART:20221030T020000
RDATE:20230326T030000
TZOFFSETFROM:+0200
TZOFFSETTO:+0100
TZNAME:Europe/Berlin CET
END:STANDARD
BEGIN:STANDARD
DTSTART:20231029T020000
RDATE:20240331T030000
TZOFFSETFROM:+0200
TZOFFSETTO:+0100
TZNAME:Europe/Berlin CET
END:STANDARD
BEGIN:STANDARD
DTSTART:20241027T020000
RDATE:20250330T030000
TZOFFSETFROM:+0200
TZOFFSETTO:+0100
TZNAME:Europe/Berlin CET
END:STANDARD
BEGIN:STANDARD
DTSTART:20251026T020000
RDATE:20260329T030000
TZOFFSETFROM:+0200
TZOFFSETTO:+0100
TZNAME:Europe/Berlin CET
END:STANDARD
BEGIN:STANDARD
DTSTART:20261025T020000
RDATE:20270328T030000
TZOFFSETFROM:+0200
TZOFFSETTO:+0100
TZNAME:Europe/Berlin CET
END:STANDARD
BEGIN:STANDARD
DTSTART:20271031T020000
RDATE:20280326T030000
TZOFFSETFROM:+0200
TZOFFSETTO:+0100
TZNAME:Europe/Berlin CET
END:STANDARD
BEGIN:STANDARD
DTSTART:20281029T020000
RDATE:20290325T030000
TZOFFSETFROM:+0200
TZOFFSETTO:+0100
TZNAME:Europe/Berlin CET
END:STANDARD
BEGIN:STANDARD
DTSTART:20291028T020000
RDATE:20300331T030000
TZOFFSETFROM:+0200
TZOFFSETTO:+0100
TZNAME:Europe/Berlin CET
END:STANDARD
BEGIN:STANDARD
DTSTART:20301027T020000
RDATE:20310330T030000
TZOFFSETFROM:+0200
TZOFFSETTO:+0100
TZNAME:Europe/Berlin CET
END:STANDARD
BEGIN:DAYLIGHT
DTSTART:20210328T030000
RDATE:20211031T020000
TZOFFSETFROM:+0100
TZOFFSETTO:+0200
TZNAME:Europe/Berlin CEST
END:DAYLIGHT
BEGIN:DAYLIGHT
DTSTART:20220327T030000
RDATE:20221030T020000
TZOFFSETFROM:+0100
TZOFFSETTO:+0200
TZNAME:Europe/Berlin CEST
END:DAYLIGHT
BEGIN:DAYLIGHT
DTSTART:20230326T030000
RDATE:20231029T020000
TZOFFSETFROM:+0100
TZOFFSETTO:+0200
TZNAME:Europe/Berlin CEST
END:DAYLIGHT
BEGIN:DAYLIGHT
DTSTART:20240331T030000
RDATE:20241027T020000
TZOFFSETFROM:+0100
TZOFFSETTO:+0200
TZNAME:Europe/Berlin CEST
END:DAYLIGHT
BEGIN:DAYLIGHT
DTSTART:20250330T030000
RDATE:20251026T020000
TZOFFSETFROM:+0100
TZOFFSETTO:+0200
TZNAME:Europe/Berlin CEST
END:DAYLIGHT
BEGIN:DAYLIGHT
DTSTART:20260329T030000
RDATE:20261025T020000
TZOFFSETFROM:+0100
TZOFFSETTO:+0200
TZNAME:Europe/Berlin CEST
END:DAYLIGHT
BEGIN:DAYLIGHT
DTSTART:20270328T030000
RDATE:20271031T020000
TZOFFSETFROM:+0100
TZOFFSETTO:+0200
TZNAME:Europe/Berlin CEST
END:DAYLIGHT
BEGIN:DAYLIGHT
DTSTART:20280326T030000
RDATE:20281029T020000
TZOFFSETFROM:+0100
TZOFFSETTO:+0200
TZNAME:Europe/Berlin CEST
END:DAYLIGHT
BEGIN:DAYLIGHT
DTSTART:20290325T030000
RDATE:20291028T020000
TZOFFSETFROM:+0100
TZOFFSETTO:+0200
TZNAME:Europe/Berlin CEST
END:DAYLIGHT
BEGIN:DAYLIGHT
DTSTART:20300331T030000
RDATE:20301027T020000
TZOFFSETFROM:+0100
TZOFFSETTO:+0200
TZNAME:Europe/Berlin CEST
END:DAYLIGHT
END:VTIMEZONE
BEGIN:VEVENT
UID:1f1af2ac5a1ba83b1d565e46d7131f08
CATEGORIES:TVE Tennis Kalender
CREATED:20220218T122236
SUMMARY:Tennis Jahreshauptversammlung 2022
DESCRIPTION:<p>Liebe Mitglieder der Tennisabteilung<br />03.02.2022<br />Einladung zur 
 Jahreshauptversammlung der Tennisabteilung<br /><br />Sehr geehrtes Mitglie
 d,<br />hiermit lade ich Sie und weitere Familienmitglieder zur Jahreshaupt
 versammlung<br />am Donnerstag, 17. März 2022 um 19.00 Uhr<br />in unser Cl
 ubhaus, Fulerumer Str. 11, herzlich ein.<br /><br />Tagesordnungspunkte:<br
  />1. Begrüßung<br />2. Protokoll der Versammlung vom 17.03.2019<br />3. Be
 richt des Abteilungsleiters<br />4. Bericht des Sportwarte – Teams<br />5. 
 Bericht des Jugendwartes<br />6. Bericht des Court – Manager<br />7. Berich
 t des Kassenwartes<br />8. Bericht der Kassenprüfer<br />9. Entlastung des 
 Abteilungsvorstandes<br /><br />10. Wahlen:<br />      - 1. Abteilungsleite
 r/in (1 Jahr)<br />      - 2. Abteilungsleiter/in (2 Jahre)<br />      - Sp
 ortwart/in (1 bzw. 2 Jahre)<br />      - Jugendwart/in (2 Jahre)<br />     
  - Kassenwart/in (2 Jahre)<br />      - Courtmanager/in (1 Jahr)<br />     
  - Schriftführer/in<br />      - Kassenprüfer/in<br /><br />11. Geplante Te
 rmine und Veranstaltungen 2022<br />12. Anträge<br />13. Verschiedenes<br /
 ><br />Diese Einladung gilt selbstverständlich auch für Ehepartner und Juge
 ndliche<br />(ab 15 Jahre), die Mitglieder unserer Abteilung sind.<br /><br
  />Mit sportlichen Grüßen<br />Bastian Keldenich</p>
DTSTAMP:20260420T031124
DTSTART;TZID=Europe/Berlin:20220317T190000
SEQUENCE:0
TRANSP:OPAQUE
END:VEVENT
END:VCALENDAR