BEGIN:VCALENDAR
VERSION:2.0
PRODID:-//jEvents 2.0 for Joomla//EN
CALSCALE:GREGORIAN
METHOD:PUBLISH
BEGIN:VTIMEZONE
TZID:Europe/Berlin
BEGIN:STANDARD
DTSTART:20141026T020000
RDATE:20150329T030000
TZOFFSETFROM:+0200
TZOFFSETTO:+0100
TZNAME:Europe/Berlin CET
END:STANDARD
BEGIN:STANDARD
DTSTART:20151025T020000
RDATE:20160327T030000
TZOFFSETFROM:+0200
TZOFFSETTO:+0100
TZNAME:Europe/Berlin CET
END:STANDARD
BEGIN:STANDARD
DTSTART:20161030T020000
RDATE:20170326T030000
TZOFFSETFROM:+0200
TZOFFSETTO:+0100
TZNAME:Europe/Berlin CET
END:STANDARD
BEGIN:STANDARD
DTSTART:20171029T020000
RDATE:20180325T030000
TZOFFSETFROM:+0200
TZOFFSETTO:+0100
TZNAME:Europe/Berlin CET
END:STANDARD
BEGIN:STANDARD
DTSTART:20181028T020000
RDATE:20190331T030000
TZOFFSETFROM:+0200
TZOFFSETTO:+0100
TZNAME:Europe/Berlin CET
END:STANDARD
BEGIN:STANDARD
DTSTART:20191027T020000
RDATE:20200329T030000
TZOFFSETFROM:+0200
TZOFFSETTO:+0100
TZNAME:Europe/Berlin CET
END:STANDARD
BEGIN:STANDARD
DTSTART:20201025T020000
RDATE:20210328T030000
TZOFFSETFROM:+0200
TZOFFSETTO:+0100
TZNAME:Europe/Berlin CET
END:STANDARD
BEGIN:STANDARD
DTSTART:20211031T020000
RDATE:20220327T030000
TZOFFSETFROM:+0200
TZOFFSETTO:+0100
TZNAME:Europe/Berlin CET
END:STANDARD
BEGIN:STANDARD
DTSTART:20221030T020000
RDATE:20230326T030000
TZOFFSETFROM:+0200
TZOFFSETTO:+0100
TZNAME:Europe/Berlin CET
END:STANDARD
BEGIN:STANDARD
DTSTART:20231029T020000
RDATE:20240331T030000
TZOFFSETFROM:+0200
TZOFFSETTO:+0100
TZNAME:Europe/Berlin CET
END:STANDARD
BEGIN:STANDARD
DTSTART:20241027T020000
RDATE:20250330T030000
TZOFFSETFROM:+0200
TZOFFSETTO:+0100
TZNAME:Europe/Berlin CET
END:STANDARD
BEGIN:STANDARD
DTSTART:20251026T020000
RDATE:20260329T030000
TZOFFSETFROM:+0200
TZOFFSETTO:+0100
TZNAME:Europe/Berlin CET
END:STANDARD
BEGIN:STANDARD
DTSTART:20261025T020000
RDATE:20270328T030000
TZOFFSETFROM:+0200
TZOFFSETTO:+0100
TZNAME:Europe/Berlin CET
END:STANDARD
BEGIN:STANDARD
DTSTART:20271031T020000
RDATE:20280326T030000
TZOFFSETFROM:+0200
TZOFFSETTO:+0100
TZNAME:Europe/Berlin CET
END:STANDARD
BEGIN:STANDARD
DTSTART:20281029T020000
RDATE:20290325T030000
TZOFFSETFROM:+0200
TZOFFSETTO:+0100
TZNAME:Europe/Berlin CET
END:STANDARD
BEGIN:STANDARD
DTSTART:20291028T020000
RDATE:20300331T030000
TZOFFSETFROM:+0200
TZOFFSETTO:+0100
TZNAME:Europe/Berlin CET
END:STANDARD
BEGIN:STANDARD
DTSTART:20301027T020000
RDATE:20310330T030000
TZOFFSETFROM:+0200
TZOFFSETTO:+0100
TZNAME:Europe/Berlin CET
END:STANDARD
BEGIN:DAYLIGHT
DTSTART:20140523T000000
RDATE:20141026T020000
TZOFFSETFROM:+0100
TZOFFSETTO:+0200
TZNAME:Europe/Berlin CEST
END:DAYLIGHT
BEGIN:DAYLIGHT
DTSTART:20150329T030000
RDATE:20151025T020000
TZOFFSETFROM:+0100
TZOFFSETTO:+0200
TZNAME:Europe/Berlin CEST
END:DAYLIGHT
BEGIN:DAYLIGHT
DTSTART:20160327T030000
RDATE:20161030T020000
TZOFFSETFROM:+0100
TZOFFSETTO:+0200
TZNAME:Europe/Berlin CEST
END:DAYLIGHT
BEGIN:DAYLIGHT
DTSTART:20170326T030000
RDATE:20171029T020000
TZOFFSETFROM:+0100
TZOFFSETTO:+0200
TZNAME:Europe/Berlin CEST
END:DAYLIGHT
BEGIN:DAYLIGHT
DTSTART:20180325T030000
RDATE:20181028T020000
TZOFFSETFROM:+0100
TZOFFSETTO:+0200
TZNAME:Europe/Berlin CEST
END:DAYLIGHT
BEGIN:DAYLIGHT
DTSTART:20190331T030000
RDATE:20191027T020000
TZOFFSETFROM:+0100
TZOFFSETTO:+0200
TZNAME:Europe/Berlin CEST
END:DAYLIGHT
BEGIN:DAYLIGHT
DTSTART:20200329T030000
RDATE:20201025T020000
TZOFFSETFROM:+0100
TZOFFSETTO:+0200
TZNAME:Europe/Berlin CEST
END:DAYLIGHT
BEGIN:DAYLIGHT
DTSTART:20210328T030000
RDATE:20211031T020000
TZOFFSETFROM:+0100
TZOFFSETTO:+0200
TZNAME:Europe/Berlin CEST
END:DAYLIGHT
BEGIN:DAYLIGHT
DTSTART:20220327T030000
RDATE:20221030T020000
TZOFFSETFROM:+0100
TZOFFSETTO:+0200
TZNAME:Europe/Berlin CEST
END:DAYLIGHT
BEGIN:DAYLIGHT
DTSTART:20230326T030000
RDATE:20231029T020000
TZOFFSETFROM:+0100
TZOFFSETTO:+0200
TZNAME:Europe/Berlin CEST
END:DAYLIGHT
BEGIN:DAYLIGHT
DTSTART:20240331T030000
RDATE:20241027T020000
TZOFFSETFROM:+0100
TZOFFSETTO:+0200
TZNAME:Europe/Berlin CEST
END:DAYLIGHT
BEGIN:DAYLIGHT
DTSTART:20250330T030000
RDATE:20251026T020000
TZOFFSETFROM:+0100
TZOFFSETTO:+0200
TZNAME:Europe/Berlin CEST
END:DAYLIGHT
BEGIN:DAYLIGHT
DTSTART:20260329T030000
RDATE:20261025T020000
TZOFFSETFROM:+0100
TZOFFSETTO:+0200
TZNAME:Europe/Berlin CEST
END:DAYLIGHT
BEGIN:DAYLIGHT
DTSTART:20270328T030000
RDATE:20271031T020000
TZOFFSETFROM:+0100
TZOFFSETTO:+0200
TZNAME:Europe/Berlin CEST
END:DAYLIGHT
BEGIN:DAYLIGHT
DTSTART:20280326T030000
RDATE:20281029T020000
TZOFFSETFROM:+0100
TZOFFSETTO:+0200
TZNAME:Europe/Berlin CEST
END:DAYLIGHT
BEGIN:DAYLIGHT
DTSTART:20290325T030000
RDATE:20291028T020000
TZOFFSETFROM:+0100
TZOFFSETTO:+0200
TZNAME:Europe/Berlin CEST
END:DAYLIGHT
BEGIN:DAYLIGHT
DTSTART:20300331T030000
RDATE:20301027T020000
TZOFFSETFROM:+0100
TZOFFSETTO:+0200
TZNAME:Europe/Berlin CEST
END:DAYLIGHT
END:VTIMEZONE
BEGIN:VEVENT
UID:6e3847abb9872204694ce729308676dc
CATEGORIES:TVE Tennis Kalender
CREATED:20150203T002712
SUMMARY:Traditionelles Pfingsturnier
DESCRIPTION:Liebe Tennisfreundinnen und Tennisfreunde,\nauch in diesem Jahr wollen wir 
 wie gewohnt unser Pfingstturnier am Sonntag den 24.05.2015 austragen.\nWill
 kommen ist jeder, der Spaß am Tennisspiel hat, egal ob jung oder alt, weibl
 ich oder männlich, Anfängeroder Profi, Vereinsmitglied oder Gast. In gemütl
 ich-fröhlicher Atmosphäre wollten wir 3 Runden gemeinsam Doppel spielen,wob
 ei der Fokus klar auf der Spaßfaktor und nicht dem Erfolg liegen soll. Im F
 olgenden sind hier die wichtigsten Informationen zusammengefasst:\n-    Beg
 inn: Sonntag 24.05.2015 um 11Uhr (seid bitte um 10.45Uhr vor Ort, damit wir
  rechtzeitig starten können!)\n-    Gespielt wird in zufälligen Doppelpaaru
 ngen, damit man sich im Verein auch mal besser kennenlernt     (die Paarung
 en und Partner werden vorher von der Turnierleitung ausgelost)\n-    Die Sp
 ieldauer beträgt in jeder Runde 45min, wobei ganz normal Aufschlagspiele ge
 zählt werden     (bei 6 wird einfach weiter gezählt, also sind Ergebnisse w
 ie 8:8 oder 10:4 o.ä. möglich!)\n-    Nach der zweiten Runde wird es eine P
 ause geben, in der ein kleiner Snack zur Stärkung eingenommen     werden ka
 nn, der in der Teilnahmegebühr inklusive ist\n-    Danach wird die dritte R
 unde vor Ort ausgelost, jeder ist nun mit einem Los für sein Schicksal selb
 st verantwortlich\n-    Die dritte Runde wird zudem als Handicap-Runde gesp
 ielt, bei der Luftballons, Holzschläger, Technikbälle     und vieles mehr z
 um Einsatz kommen wird. Lasst euch überraschen!\n-    Die Teilnahmegebühr b
 eträgt 5€ und ist am Turniertag bei der Turnierleitung zu zahlen     (bitte
  fühlt euch mit der Anmeldung in der beiliegenden Liste auch verpflichtet z
 u kommen,     damit wir besser planen können! Es ist doof, wenn sich 45Leut
 e anmelden und nur 20 da sind und umgekehrt!)\n-    Anmeldeschluss ist Donn
 erstag der 21.05.2015 Bei Fragen wendet euch bitte an Manuel „Malte“ Altenb
 ernd (0163/2357431)\nAbschließend bleibt uns nur noch der Wunsch auf gutes 
 Wetter und zahlreiches Erscheinen von euch allen,damit auch in diesem Jahr 
 unser Pfingstturnier wieder viel Freude bringt! Euer Sportwarteteam  \n
X-ALT-DESC;FMTTYPE=text/html:<p>Liebe Tennisfreundinnen und Tennisfreunde,<br />auch in diesem Jahr woll
 en wir wie gewohnt unser Pfingstturnier am Sonntag den 24.05.2015 austragen
 .</p><div>Willkommen ist jeder, der Spaß am Tennisspiel hat, egal ob jung o
 der alt, weiblich oder männlich, Anfänger</div><div>oder Profi, Vereinsmitg
 lied oder Gast.</div><div> </div><div>In gemütlich-fröhlicher Atmosphäre wo
 llten wir 3 Runden gemeinsam Doppel spielen,</div><div>wobei der Fokus klar
  auf der Spaßfaktor und nicht dem Erfolg liegen soll.</div><div> </div><div
 >Im Folgenden sind hier die wichtigsten Informationen zusammengefasst:<br /
 >-    Beginn: Sonntag 24.05.2015 um 11Uhr (seid bitte um 10.45Uhr vor Ort, 
 damit wir rechtzeitig starten können!)</div><div><br />-    Gespielt wird i
 n zufälligen Doppelpaarungen, damit man sich im Verein auch mal besser kenn
 enlernt</div><div>     (die Paarungen und Partner werden vorher von der Tur
 nierleitung ausgelost)</div><div><br />-    Die Spieldauer beträgt in jeder
  Runde 45min, wobei ganz normal Aufschlagspiele gezählt werden</div><div>  
    (bei 6 wird einfach weiter gezählt, also sind Ergebnisse wie 8:8 oder 10
 :4 o.ä. möglich!)</div><div><br />-    Nach der zweiten Runde wird es eine 
 Pause geben, in der ein kleiner Snack zur Stärkung eingenommen</div><div>  
    werden kann, der in der Teilnahmegebühr inklusive ist</div><div><br />- 
    Danach wird die dritte Runde vor Ort ausgelost, jeder ist nun mit einem 
 Los für sein Schicksal selbst verantwortlich</div><div><br />-    Die dritt
 e Runde wird zudem als Handicap-Runde gespielt, bei der Luftballons, Holzsc
 hläger, Technikbälle</div><div>     und vieles mehr zum Einsatz kommen wird
 . Lasst euch überraschen!</div><div><br />-    Die Teilnahmegebühr beträgt 
 5€ und ist am Turniertag bei der Turnierleitung zu zahlen</div><div>     (b
 itte fühlt euch mit der Anmeldung in der beiliegenden Liste auch verpflicht
 et zu kommen,</div><div>     damit wir besser planen können! Es ist doof, w
 enn sich 45Leute anmelden und nur 20 da sind und umgekehrt!)</div><div><br 
 />-    Anmeldeschluss ist Donnerstag der 21.05.2015</div><div> </div><p>Bei
  Fragen wendet euch bitte an Manuel „Malte“ Altenbernd (0163/2357431)</p><d
 iv>Abschließend bleibt uns nur noch der Wunsch auf gutes Wetter und zahlrei
 ches Erscheinen von euch allen,</div><div>damit auch in diesem Jahr unser P
 fingstturnier wieder viel Freude bringt!</div><div> </div><div>Euer Sportwa
 rteteam</div><div> </div><p> </p>
DTSTAMP:20260421T121457
DTSTART;TZID=Europe/Berlin;VALUE=DATE:20150524
DTEND;TZID=Europe/Berlin;VALUE=DATE:20150525
SEQUENCE:0
TRANSP:OPAQUE
END:VEVENT
END:VCALENDAR