BEGIN:VCALENDAR
VERSION:2.0
PRODID:-//jEvents 2.0 for Joomla//EN
CALSCALE:GREGORIAN
METHOD:PUBLISH
BEGIN:VTIMEZONE
TZID:Europe/Berlin
BEGIN:STANDARD
DTSTART:20250228T110000
RDATE:20250330T030000
TZOFFSETFROM:+0200
TZOFFSETTO:+0100
TZNAME:Europe/Berlin CET
END:STANDARD
BEGIN:STANDARD
DTSTART:20251026T020000
RDATE:20260329T030000
TZOFFSETFROM:+0200
TZOFFSETTO:+0100
TZNAME:Europe/Berlin CET
END:STANDARD
BEGIN:STANDARD
DTSTART:20261025T020000
RDATE:20270328T030000
TZOFFSETFROM:+0200
TZOFFSETTO:+0100
TZNAME:Europe/Berlin CET
END:STANDARD
BEGIN:STANDARD
DTSTART:20271031T020000
RDATE:20280326T030000
TZOFFSETFROM:+0200
TZOFFSETTO:+0100
TZNAME:Europe/Berlin CET
END:STANDARD
BEGIN:STANDARD
DTSTART:20281029T020000
RDATE:20290325T030000
TZOFFSETFROM:+0200
TZOFFSETTO:+0100
TZNAME:Europe/Berlin CET
END:STANDARD
BEGIN:STANDARD
DTSTART:20291028T020000
RDATE:20300331T030000
TZOFFSETFROM:+0200
TZOFFSETTO:+0100
TZNAME:Europe/Berlin CET
END:STANDARD
BEGIN:STANDARD
DTSTART:20301027T020000
RDATE:20310330T030000
TZOFFSETFROM:+0200
TZOFFSETTO:+0100
TZNAME:Europe/Berlin CET
END:STANDARD
BEGIN:DAYLIGHT
DTSTART:20250330T030000
RDATE:20251026T020000
TZOFFSETFROM:+0100
TZOFFSETTO:+0200
TZNAME:Europe/Berlin CEST
END:DAYLIGHT
BEGIN:DAYLIGHT
DTSTART:20260329T030000
RDATE:20261025T020000
TZOFFSETFROM:+0100
TZOFFSETTO:+0200
TZNAME:Europe/Berlin CEST
END:DAYLIGHT
BEGIN:DAYLIGHT
DTSTART:20270328T030000
RDATE:20271031T020000
TZOFFSETFROM:+0100
TZOFFSETTO:+0200
TZNAME:Europe/Berlin CEST
END:DAYLIGHT
BEGIN:DAYLIGHT
DTSTART:20280326T030000
RDATE:20281029T020000
TZOFFSETFROM:+0100
TZOFFSETTO:+0200
TZNAME:Europe/Berlin CEST
END:DAYLIGHT
BEGIN:DAYLIGHT
DTSTART:20290325T030000
RDATE:20291028T020000
TZOFFSETFROM:+0100
TZOFFSETTO:+0200
TZNAME:Europe/Berlin CEST
END:DAYLIGHT
BEGIN:DAYLIGHT
DTSTART:20300331T030000
RDATE:20301027T020000
TZOFFSETFROM:+0100
TZOFFSETTO:+0200
TZNAME:Europe/Berlin CEST
END:DAYLIGHT
END:VTIMEZONE
BEGIN:VEVENT
UID:8e3f8971c78363a7e2e322444e55a82a
CATEGORIES:TVE Tennis Kalender
CREATED:20260218T234729
SUMMARY:JHV der TVE Tennisabteilung 2026
DESCRIPTION:Liebe Mitglieder, hiermit laden wir Euch herzlich zur Jahreshauptversammlun
 g der Tennisabteilung ein. Datum: Sonntag, 01.03.2026Uhrzeit: 11:00 UhrOrt:
  Clubhaus Neben den formalen Tagesordnungspunkten möchten wir besonders auf
  zwei spannende Programmpunkte hinweisen:\n - die Vorstellung unseres neuen
  Sponsoringkonzeptes, das wichtige Impulse für die zukünftige Entwicklung u
 nseres Vereins setzen soll, sowie\n - die Präsentation unserer neuen TVE-Ap
 p, die ab der kommenden Sommersaison zur Verfügung stehen wird und viele Ab
 läufe im Vereinsalltag erleichtern soll.Die Antragsfrist für die Jahreshaup
 tversammlung endet formal mit dem Beginn der Sitzung.Aus organisatorischen 
 Gründen bitten wir euch jedoch, Anträge und Kandidaturen möglichst bis spät
 estens 14 Tage vor der Versammlung einzureichen,\n damit wir diese rechtzei
 tig in die Tischvorlage und unsere Sitzungsvorbereitung aufnehmen können. F
 alls ihr Fragen oder Anmerkungen habt, meldet euch gerne per E-Mail (Diese 
 E-Mail-Adresse ist vor Spambots geschützt! Zur Anzeige muss JavaScript eing
 eschaltet sein!
				document.getElementById('cloak36bbde310940098c636705893
 4181363').innerHTML = '';
				var prefix = '&#109;a' + 'i&#108;' + '&#116;o
 ';
				var path = 'hr' + 'ef' + '=';
				var addy36bbde310940098c6367058934
 181363 = 'v&#111;rst&#97;nd' + '&#64;';
				addy36bbde310940098c63670589341
 81363 = addy36bbde310940098c6367058934181363 + 'tv&#101;t&#101;nn&#105;s' +
  '&#46;' + 'd&#101;';
				var addy_text36bbde310940098c6367058934181363 = '
 v&#111;rst&#97;nd' + '&#64;' + 'tv&#101;t&#101;nn&#105;s' + '&#46;' + 'd&#1
 01;';document.getElementById('cloak36bbde310940098c6367058934181363').inner
 HTML += '<a ' + path + '\'' + prefix + ':' + addy36bbde310940098c6367058934
 181363 + '\'>'+addy_text36bbde310940098c6367058934181363+'';
		)\noder tele
 fonisch bei Alina Andric unter 0151 55530313. Wir freuen uns sehr auf eine 
 zahlreiche Teilnahme und auf eine konstruktive, lebendige Versammlung! Spor
 tliche GrüßeAlina Andric &amp; Christen Klauß  Tagesordnung\n\n - Begrüßung
  und Wahl einer Versammlungsleitung\n\n\n - Rückblick auf das Jahr 2025\n -
  Mannschaftsspiele Winter 24/25 und Sommer 25\n - Veranstaltungen\n - Proje
 kte und Förderungen\n - Bericht des Kassenwarts\n - Bericht der Kassenprüfe
 r\n\n\n - Erfolgreiche Clubhaussanierung\n\n\n - TVE Sponsoringkonzept\n - 
 Übersicht aktuelle Sponsoren\n - Das Konzept\n - Planung 2026\n\n\n - Anträ
 ge\n\n\n - Abstimmungen\n - Anpassung der Arbeitsstunden (Anzahl und Stunde
 nlohn) 2026\n\n\n - Wahlen des Vorstands\n - 2. Vorsitzender (2 Jahre)\n - 
 1. Sportwart (2 Jahre)\n - Jugendwart (2 Jahre)\n - Kassenwart (2 Jahre)\n 
 - Protokollant (2 Jahre)\n - Sponsoringbeauftragter (2 Jahre)\n - Ausblick 
 auf das Jahr 2026\n - Aktuelle Wintermannschaftsspiele 25/26\n - Mannschaft
 smeldungen Sommer 2026\n - Veranstaltungen und Termine\n\n\n - Vorstellung:
  TVE App ab sofort verfügbar
X-ALT-DESC;FMTTYPE=text/html:<div class="x_elementToProof" data-olk-copy-source="MessageBody">Liebe Mitg
 lieder,</div><div class="x_elementToProof"> </div><div class="x_elementToPr
 oof">hiermit laden wir Euch herzlich zur <span class="marknznbp0o1a" data-m
 arkjs="true" data-ogac="" data-ogab="" data-ogsc="" data-ogsb="">Jahreshaup
 t</span>versammlung der Tennisabteilung ein.</div><div class="x_elementToPr
 oof"> </div><div class="x_elementToProof"><b>Datum: </b>Sonntag, 01.03.2026
 </div><div class="x_elementToProof"><b>Uhrzeit:</b> 11:00 Uhr</div><div cla
 ss="x_elementToProof"><b>Ort:</b> Clubhaus</div><div class="x_elementToProo
 f"> </div><div class="x_elementToProof">Neben den formalen Tagesordnungspun
 kten möchten wir besonders auf zwei spannende Programmpunkte hinweisen:</di
 v><ul data-editing-info="{&quot;applyListStyleFromLevel&quot;:true}"><li><d
 iv class="x_elementToProof">die <b>Vorstellung unseres neuen Sponsoringkonz
 eptes</b>, das wichtige Impulse für die zukünftige Entwicklung unseres Vere
 ins setzen soll, sowie</div></li><li><div class="x_elementToProof">die <b>P
 räsentation unserer neuen TVE-App</b>, die ab der kommenden Sommersaison zu
 r Verfügung stehen wird und viele Abläufe im Vereinsalltag erleichtern soll
 .</div></li></ul><div class="x_elementToProof">Die <b>Antragsfrist</b> für 
 die <span class="marknznbp0o1a" data-markjs="true" data-ogac="" data-ogab="
 " data-ogsc="" data-ogsb="">Jahreshaupt</span>versammlung endet formal mit 
 dem Beginn der Sitzung.</div><div class="x_elementToProof">Aus organisatori
 schen Gründen bitten wir euch jedoch, Anträge und Kandidaturen möglichst <b
 >bis spätestens 14 Tage vor der Versammlung</b> einzureichen,<br /> damit w
 ir diese rechtzeitig in die Tischvorlage und unsere Sitzungsvorbereitung au
 fnehmen können.</div><div class="x_elementToProof"><b> </b></div><div class
 ="x_elementToProof">Falls ihr Fragen oder Anmerkungen habt, meldet euch ger
 ne per E-Mail (<span id="cloak36bbde310940098c6367058934181363">Diese E-Mai
 l-Adresse ist vor Spambots geschützt! Zur Anzeige muss JavaScript eingescha
 ltet sein!</span><script type='text/javascript'>
				document.getElementByI
 d('cloak36bbde310940098c6367058934181363').innerHTML = '';
				var prefix =
  '&#109;a' + 'i&#108;' + '&#116;o';
				var path = 'hr' + 'ef' + '=';
				v
 ar addy36bbde310940098c6367058934181363 = 'v&#111;rst&#97;nd' + '&#64;';
		
 		addy36bbde310940098c6367058934181363 = addy36bbde310940098c63670589341813
 63 + 'tv&#101;t&#101;nn&#105;s' + '&#46;' + 'd&#101;';
				var addy_text36b
 bde310940098c6367058934181363 = 'v&#111;rst&#97;nd' + '&#64;' + 'tv&#101;t&
 #101;nn&#105;s' + '&#46;' + 'd&#101;';document.getElementById('cloak36bbde3
 10940098c6367058934181363').innerHTML += '<a ' + path + '\'' + prefix + ':'
  + addy36bbde310940098c6367058934181363 + '\'>'+addy_text36bbde310940098c63
 67058934181363+'<\/a>';
		</script>)<br />oder telefonisch bei Alina Andric
  unter 0151 55530313.</div><div class="x_elementToProof"> </div><div class=
 "x_elementToProof">Wir freuen uns sehr auf eine zahlreiche Teilnahme und au
 f eine konstruktive, lebendige Versammlung!</div><div class="x_elementToPro
 of"> </div><div class="x_elementToProof">Sportliche Grüße</div><div class="
 x_elementToProof">Alina Andric &amp; Christen Klauß</div><div class="x_elem
 entToProof"> </div><div class="x_elementToProof"> </div><div class="x_eleme
 ntToProof"><p><strong><u>Tagesordnung</u></strong></p><ol><li>Begrüßung und
  Wahl einer Versammlungsleitung<br /><br /></li><li>Rückblick auf das Jahr 
 2025<ol style="list-style-type: lower-alpha;"><li>Mannschaftsspiele Winter 
 24/25 und Sommer 25</li><li>Veranstaltungen</li><li>Projekte und Förderunge
 n</li><li>Bericht des Kassenwarts</li><li>Bericht der Kassenprüfer<br /><br
  /></li></ol></li><li>Erfolgreiche Clubhaussanierung<br /><br /></li><li>TV
 E Sponsoringkonzept<ol style="list-style-type: lower-alpha;"><li>Übersicht 
 aktuelle Sponsoren</li><li>Das Konzept</li><li>Planung 2026<br /><br /></li
 ></ol></li><li>Anträge<br /><br /></li><li>Abstimmungen<ol style="list-styl
 e-type: lower-alpha;"><li>Anpassung der Arbeitsstunden (Anzahl und Stundenl
 ohn) 2026<br /><br /></li></ol></li><li>Wahlen des Vorstands<ol style="list
 -style-type: lower-alpha;" start="2"><li>2. Vorsitzender (2 Jahre)</li><li>
 1. Sportwart (2 Jahre)</li><li>Jugendwart (2 Jahre)</li><li>Kassenwart (2 J
 ahre)</li><li>Protokollant (2 Jahre)</li><li>Sponsoringbeauftragter (2 Jahr
 e)</li></ol></li></ol><ol start="8"><li>Ausblick auf das Jahr 2026<ol style
 ="list-style-type: lower-alpha;"><li>Aktuelle Wintermannschaftsspiele 25/26
 </li><li>Mannschaftsmeldungen Sommer 2026</li><li>Veranstaltungen und Termi
 ne<br /><br /></li></ol></li><li>Vorstellung: TVE App ab sofort verfügbar</
 li></ol></div>
DTSTAMP:20260419T194300
DTSTART;TZID=Europe/Berlin:20260301T110000
SEQUENCE:0
TRANSP:OPAQUE
END:VEVENT
END:VCALENDAR