BEGIN:VCALENDAR
VERSION:2.0
PRODID:-//jEvents 2.0 for Joomla//EN
CALSCALE:GREGORIAN
METHOD:PUBLISH
BEGIN:VTIMEZONE
TZID:Europe/Berlin
BEGIN:STANDARD
DTSTART:20250321T110000
RDATE:20250330T030000
TZOFFSETFROM:+0200
TZOFFSETTO:+0100
TZNAME:Europe/Berlin CET
END:STANDARD
BEGIN:STANDARD
DTSTART:20251026T020000
RDATE:20260329T030000
TZOFFSETFROM:+0200
TZOFFSETTO:+0100
TZNAME:Europe/Berlin CET
END:STANDARD
BEGIN:STANDARD
DTSTART:20261025T020000
RDATE:20270328T030000
TZOFFSETFROM:+0200
TZOFFSETTO:+0100
TZNAME:Europe/Berlin CET
END:STANDARD
BEGIN:STANDARD
DTSTART:20271031T020000
RDATE:20280326T030000
TZOFFSETFROM:+0200
TZOFFSETTO:+0100
TZNAME:Europe/Berlin CET
END:STANDARD
BEGIN:STANDARD
DTSTART:20281029T020000
RDATE:20290325T030000
TZOFFSETFROM:+0200
TZOFFSETTO:+0100
TZNAME:Europe/Berlin CET
END:STANDARD
BEGIN:STANDARD
DTSTART:20291028T020000
RDATE:20300331T030000
TZOFFSETFROM:+0200
TZOFFSETTO:+0100
TZNAME:Europe/Berlin CET
END:STANDARD
BEGIN:STANDARD
DTSTART:20301027T020000
RDATE:20310330T030000
TZOFFSETFROM:+0200
TZOFFSETTO:+0100
TZNAME:Europe/Berlin CET
END:STANDARD
BEGIN:DAYLIGHT
DTSTART:20250330T030000
RDATE:20251026T020000
TZOFFSETFROM:+0100
TZOFFSETTO:+0200
TZNAME:Europe/Berlin CEST
END:DAYLIGHT
BEGIN:DAYLIGHT
DTSTART:20260329T030000
RDATE:20261025T020000
TZOFFSETFROM:+0100
TZOFFSETTO:+0200
TZNAME:Europe/Berlin CEST
END:DAYLIGHT
BEGIN:DAYLIGHT
DTSTART:20270328T030000
RDATE:20271031T020000
TZOFFSETFROM:+0100
TZOFFSETTO:+0200
TZNAME:Europe/Berlin CEST
END:DAYLIGHT
BEGIN:DAYLIGHT
DTSTART:20280326T030000
RDATE:20281029T020000
TZOFFSETFROM:+0100
TZOFFSETTO:+0200
TZNAME:Europe/Berlin CEST
END:DAYLIGHT
BEGIN:DAYLIGHT
DTSTART:20290325T030000
RDATE:20291028T020000
TZOFFSETFROM:+0100
TZOFFSETTO:+0200
TZNAME:Europe/Berlin CEST
END:DAYLIGHT
BEGIN:DAYLIGHT
DTSTART:20300331T030000
RDATE:20301027T020000
TZOFFSETFROM:+0100
TZOFFSETTO:+0200
TZNAME:Europe/Berlin CEST
END:DAYLIGHT
END:VTIMEZONE
BEGIN:VEVENT
UID:12d3a75abec290e8d8120714c9fb5125
CATEGORIES:TVE Tennis Kalender
CREATED:20260218T232311
SUMMARY:TVE Jahreshauptversammlung 2026
DESCRIPTION:EINLADUNG ZUR TVE JAHRESHAUPTVERSAMMLUNG\nLiebe Vereinsmitglieder,\nunsere 
 Jahreshauptversammlung findet am Sonntag, den 22. März 2026, um 11.00 Uhr\n
 in unserem „Clubhaus Jahnwiese“, Fulerumer Str. 11, statt.\nHierzu lade ich
  Euch herzlich ein.\nAgenda/Tagesordnung\n\n1. Begrüßung\n\n2. Jubilar-Ehru
 ng\n\n3. Verlesen der Niederschrift über die Jahreshauptversammlung vom Mär
 z 2025.\n\n4. Bericht des/der Vorsitzenden*in\n\n5. Berichte der Abteilungs
 warte*in\n\n6. Bericht des/der Geschäftsführer*in – Kassenbericht –\n    a.
  Einnahmen - und Ausgabenrechnung\n    b. Übersicht über das Vereinsvermöge
 n\n\n7. Bericht der Kassenprüfung\n\n8. Feststellung der Beschlussfähigkeit
 \n\n9. Entlastung des geschäftsführenden Vorstandes\n\n10. Vorstandsneuwahl
 en bzw, - Bestätigung\n     a. Vorsitzender*in ( keine Neuwahl)\n     b. St
 ellvertr. Vorsitzender*in ( Neuwahl /Wiederwahl )\n     c. Geschäftsführer*
 in ( keine Neuwahl )\n     d. Schriftführer*in ( keine Neuwahl )\n     e. E
 +S ( keine Neuwahl )\n     f. Kassenprüfer*in ( keine Neuwahl )\n     g. Er
 satzkassenprüfer ( Neuwahl )\n\n11. Anträge\n     Anträge, die in der Jahre
 shauptversammlung behandelt werden sollen, sind\n     bis zum 10.03.2026 an
  Florian Paris, Clausthalerstr. 6 45145 Essen, einzureichen.\n\n12. Verschi
 edenes\n\nViele Grüße\nEuer TVE Gesamtvorstand\n
X-ALT-DESC;FMTTYPE=text/html:<p>EINLADUNG ZUR TVE JAHRESHAUPTVERSAMMLUNG</p><p>Liebe Vereinsmitglieder,<
 br />unsere Jahreshauptversammlung findet am Sonntag, den 22. März 2026, um
  11.00 Uhr<br />in unserem „Clubhaus Jahnwiese“, Fulerumer Str. 11, statt.<
 /p><p>Hierzu lade ich Euch herzlich ein.</p><p><span style="text-decoration
 : underline;"><strong>Agenda/Tagesordnung</strong></span><br /><br />1. Beg
 rüßung<br /><br />2. Jubilar-Ehrung<br /><br />3. Verlesen der Niederschrif
 t über die Jahreshauptversammlung vom März 2025.<br /><br />4. Bericht des/
 der Vorsitzenden*in<br /><br />5. Berichte der Abteilungswarte*in<br /><br 
 />6. Bericht des/der Geschäftsführer*in – Kassenbericht –<br />    a. Einna
 hmen - und Ausgabenrechnung<br />    b. Übersicht über das Vereinsvermögen<
 br /><br />7. Bericht der Kassenprüfung<br /><br />8. Feststellung der Besc
 hlussfähigkeit<br /><br />9. Entlastung des geschäftsführenden Vorstandes<b
 r /><br />10. Vorstandsneuwahlen bzw, - Bestätigung<br />     a. Vorsitzend
 er*in ( keine Neuwahl)<br />     b. Stellvertr. Vorsitzender*in ( Neuwahl /
 Wiederwahl )<br />     c. Geschäftsführer*in ( keine Neuwahl )<br />     d.
  Schriftführer*in ( keine Neuwahl )<br />     e. E+S ( keine Neuwahl )<br /
 >     f. Kassenprüfer*in ( keine Neuwahl )<br />     g. Ersatzkassenprüfer 
 ( Neuwahl )<br /><br />11. Anträge<br />     Anträge, die in der Jahreshaup
 tversammlung behandelt werden sollen, sind<br />     bis zum 10.03.2026 an 
 Florian Paris, Clausthalerstr. 6 45145 Essen, einzureichen.<br /><br />12. 
 Verschiedenes<br /><br />Viele Grüße<br />Euer TVE Gesamtvorstand</p>
DTSTAMP:20260419T211647
DTSTART;TZID=Europe/Berlin:20260322T110000
SEQUENCE:0
TRANSP:OPAQUE
END:VEVENT
END:VCALENDAR