BEGIN:VCALENDAR
VERSION:2.0
PRODID:-//jEvents 2.0 for Joomla//EN
CALSCALE:GREGORIAN
METHOD:PUBLISH
BEGIN:VTIMEZONE
TZID:Europe/Berlin
BEGIN:STANDARD
DTSTART:20231029T020000
RDATE:20240331T030000
TZOFFSETFROM:+0200
TZOFFSETTO:+0100
TZNAME:Europe/Berlin CET
END:STANDARD
BEGIN:STANDARD
DTSTART:20241027T020000
RDATE:20250330T030000
TZOFFSETFROM:+0200
TZOFFSETTO:+0100
TZNAME:Europe/Berlin CET
END:STANDARD
BEGIN:STANDARD
DTSTART:20251026T020000
RDATE:20260329T030000
TZOFFSETFROM:+0200
TZOFFSETTO:+0100
TZNAME:Europe/Berlin CET
END:STANDARD
BEGIN:STANDARD
DTSTART:20261025T020000
RDATE:20270328T030000
TZOFFSETFROM:+0200
TZOFFSETTO:+0100
TZNAME:Europe/Berlin CET
END:STANDARD
BEGIN:STANDARD
DTSTART:20271031T020000
RDATE:20280326T030000
TZOFFSETFROM:+0200
TZOFFSETTO:+0100
TZNAME:Europe/Berlin CET
END:STANDARD
BEGIN:STANDARD
DTSTART:20281029T020000
RDATE:20290325T030000
TZOFFSETFROM:+0200
TZOFFSETTO:+0100
TZNAME:Europe/Berlin CET
END:STANDARD
BEGIN:STANDARD
DTSTART:20291028T020000
RDATE:20300331T030000
TZOFFSETFROM:+0200
TZOFFSETTO:+0100
TZNAME:Europe/Berlin CET
END:STANDARD
BEGIN:STANDARD
DTSTART:20301027T020000
RDATE:20310330T030000
TZOFFSETFROM:+0200
TZOFFSETTO:+0100
TZNAME:Europe/Berlin CET
END:STANDARD
BEGIN:DAYLIGHT
DTSTART:20230411T090000
RDATE:20231029T020000
TZOFFSETFROM:+0100
TZOFFSETTO:+0200
TZNAME:Europe/Berlin CEST
END:DAYLIGHT
BEGIN:DAYLIGHT
DTSTART:20240331T030000
RDATE:20241027T020000
TZOFFSETFROM:+0100
TZOFFSETTO:+0200
TZNAME:Europe/Berlin CEST
END:DAYLIGHT
BEGIN:DAYLIGHT
DTSTART:20250330T030000
RDATE:20251026T020000
TZOFFSETFROM:+0100
TZOFFSETTO:+0200
TZNAME:Europe/Berlin CEST
END:DAYLIGHT
BEGIN:DAYLIGHT
DTSTART:20260329T030000
RDATE:20261025T020000
TZOFFSETFROM:+0100
TZOFFSETTO:+0200
TZNAME:Europe/Berlin CEST
END:DAYLIGHT
BEGIN:DAYLIGHT
DTSTART:20270328T030000
RDATE:20271031T020000
TZOFFSETFROM:+0100
TZOFFSETTO:+0200
TZNAME:Europe/Berlin CEST
END:DAYLIGHT
BEGIN:DAYLIGHT
DTSTART:20280326T030000
RDATE:20281029T020000
TZOFFSETFROM:+0100
TZOFFSETTO:+0200
TZNAME:Europe/Berlin CEST
END:DAYLIGHT
BEGIN:DAYLIGHT
DTSTART:20290325T030000
RDATE:20291028T020000
TZOFFSETFROM:+0100
TZOFFSETTO:+0200
TZNAME:Europe/Berlin CEST
END:DAYLIGHT
BEGIN:DAYLIGHT
DTSTART:20300331T030000
RDATE:20301027T020000
TZOFFSETFROM:+0100
TZOFFSETTO:+0200
TZNAME:Europe/Berlin CEST
END:DAYLIGHT
END:VTIMEZONE
BEGIN:VEVENT
UID:cac46860448bea7fc8cfd70913f90ed6
CATEGORIES:TVE Tennis Kalender
CREATED:20240411T115337
SUMMARY:Platzeröffnung 15.04.2024
DESCRIPTION:Liebe Tennisfreunde,\nendlich ist es soweit - der Frühling ist da, die Tage
  werden länger und die Temperaturen steigen!\nDas bedeutet nur eins: Unsere
  Tennisplätze stehen kurz davor, aus dem Winterschlaf zu erwachen und\nfür 
 euch bereit zu sein.\nUnser Platzwart, Florian Paris, sowie seine fleißigen
  Helfer arbeiten daran, unsere Plätze so schnell wie möglich\nfür den Spiel
 betrieb vorzubereiten.\nWir freuen uns daher, euch mitteilen zu können, das
 s die Eröffnung unserer Tennisplätze für den 15.04.2024 geplant ist.\nBeach
 tet jedoch, dass dies von den Wetterbedingungen abhängt und Änderungen mögl
 ich sind.\nBitte haltet euch über die aktuellen Informationen auf unserer H
 omepage (also hier :-)) und unserer Instagram-Seite:\n(TVE Essen-Frohnhause
 n (Tennis Verein) | Instagram (https://eur01.safelinks.protection.outlook.c
 om/?url=https%3A%2F%2Fwww.instagram.com%2Ftve_essen_frohnhausen%2F&amp;data
 =05%7C02%7Cstephan.nagel%40eon.com%7C0c781171943c486400ae08dc59940b14%7Cb91
 4a242e718443ba47c6b4c649d8c0a%7C0%7C0%7C638483739572162208%7CUnknown%7CTWFp
 bGZsb3d8eyJWIjoiMC4wLjAwMDAiLCJQIjoiV2luMzIiLCJBTiI6Ik1haWwiLCJXVCI6Mn0%3D%
 7C0%7C%7C%7C&amp;sdata=KZxMvnJvOt%2Bf54c33LwUrNBDgmnZGCQhwcgj0E%2BdsaU%3D&a
 mp;reserved=0)) auf dem Laufenden, um sicherzustellen,\ndass die Plätze ber
 eits bespielbar sind und die Eröffnung wie geplant stattfinden kann.\nDamit
  wir unsere Tennisplätze in bestmöglichem Zustand halten können, möchten wi
 r euch bitten, die folgenden Hinweise zu beachten:\n\n - Zu Beginn des Spie
 lbetriebs Hallenschuhe tragen, ansonsten Sandtennisschuhe.\n - Nie zu trock
 ene Plätze bespielen (ggf. zu Beginn und nach einem Match wässern).\n - Zu 
 Beginn kein Rutschen in den Ball.\n - Löcher und Unebenheiten sofort schlie
 ßen.\n - Nach dem Spielen den Tennisplatz komplett (bis zum Zaun) abziehen.
 \n - Nicht auf zu nassen Plätzen spielen.\n - Plätze immer so verlassen, wi
 e man sie selbst gerne vorfinden möchte! \nKleiner Reminder: Am 27.04.2024 
 findet die offizielle Saisoneröffnung auf unserer Tennisanlage statt!\nWir 
 treffen uns ab 13 Uhr, also schnappt euch eure Schläger und seid dabei für 
 ein paar tolle Matches,\nMusik und leckere Getränke.\nFreut euch auf die Sp
 ecials von unserer Gastro: Lil‘ Rose und Aperol für je 4,50€, sowie leckere
  Dönergerichte.\nWir sehen uns auf dem Platz!\nEuer TVE Tennis Vorstand\n
X-ALT-DESC;FMTTYPE=text/html:<p>Liebe Tennisfreunde,<br />endlich ist es soweit - der Frühling ist da, d
 ie Tage werden länger und die Temperaturen steigen!</p><p>Das bedeutet nur 
 eins: Unsere Tennisplätze stehen kurz davor, aus dem Winterschlaf zu erwach
 en und<br />für euch bereit zu sein.<br />Unser Platzwart, Florian Paris, s
 owie seine fleißigen Helfer arbeiten daran, unsere Plätze so schnell wie mö
 glich<br />für den Spielbetrieb vorzubereiten.</p><p><strong>Wir freuen uns
  daher, euch mitteilen zu können, dass die Eröffnung unserer Tennisplätze f
 ür den 15.04.2024 geplant ist.</strong></p><p>Beachtet jedoch, dass dies vo
 n den Wetterbedingungen abhängt und Änderungen möglich sind.</p><p>Bitte ha
 ltet euch über die aktuellen Informationen auf unserer Homepage (also hier 
 :-)) und unserer Instagram-Seite:<br />(<a title="TVE Essen-Frohnhausen (Te
 nnis Verein) | Instagram" href="https://eur01.safelinks.protection.outlook.
 com/?url=https%3A%2F%2Fwww.instagram.com%2Ftve_essen_frohnhausen%2F&amp;dat
 a=05%7C02%7Cstephan.nagel%40eon.com%7C0c781171943c486400ae08dc59940b14%7Cb9
 14a242e718443ba47c6b4c649d8c0a%7C0%7C0%7C638483739572162208%7CUnknown%7CTWF
 pbGZsb3d8eyJWIjoiMC4wLjAwMDAiLCJQIjoiV2luMzIiLCJBTiI6Ik1haWwiLCJXVCI6Mn0%3D
 %7C0%7C%7C%7C&amp;sdata=KZxMvnJvOt%2Bf54c33LwUrNBDgmnZGCQhwcgj0E%2BdsaU%3D&
 amp;reserved=0" target="_blank" rel="noopener noreferrer">TVE Essen-Frohnha
 usen (Tennis Verein) | Instagram</a>) auf dem Laufenden, um sicherzustellen
 ,<br />dass die Plätze bereits bespielbar sind und die Eröffnung wie geplan
 t stattfinden kann.</p><p>Damit wir unsere Tennisplätze in bestmöglichem Zu
 stand halten können, möchten wir euch bitten, die folgenden Hinweise zu bea
 chten:</p><ol><li><strong>Zu Beginn des Spielbetriebs Hallenschuhe tragen, 
 ansonsten Sandtennisschuhe.</strong></li><li><strong>Nie zu trockene Plätze
  bespielen (ggf. zu Beginn und nach einem Match wässern).</strong></li><li>
 <strong>Zu Beginn kein Rutschen in den Ball.</strong></li><li><strong>Löche
 r und Unebenheiten sofort schließen.</strong></li><li><strong>Nach dem Spie
 len den Tennisplatz komplett (bis zum Zaun) abziehen.</strong></li><li><str
 ong>Nicht auf zu nassen Plätzen spielen.</strong></li><li><strong>Plätze im
 mer so verlassen, wie man sie selbst gerne vorfinden möchte!</strong></li><
 /ol><p> </p><p><strong>Kleiner Reminder</strong>: Am <strong>27.04.2024</st
 rong> findet die offizielle Saisoneröffnung auf unserer Tennisanlage statt!
 <br />Wir treffen uns ab 13 Uhr, also schnappt euch eure Schläger und seid 
 dabei für ein paar tolle Matches,<br />Musik und leckere Getränke.<br />Fre
 ut euch auf die Specials von unserer Gastro: Lil‘ Rose und Aperol für je 4,
 50€, sowie leckere Dönergerichte.</p><p>Wir sehen uns auf dem Platz!</p><p>
 Euer TVE Tennis Vorstand</p>
DTSTAMP:20260419T214130
DTSTART;TZID=Europe/Berlin:20240411T090000
DTEND;TZID=Europe/Berlin:20240427T220000
SEQUENCE:0
TRANSP:OPAQUE
END:VEVENT
END:VCALENDAR